BEGIN:VCALENDAR
VERSION:2.0
PRODID:-//MV Aulfingen - ECPv6.9.0//NONSGML v1.0//EN
CALSCALE:GREGORIAN
METHOD:PUBLISH
X-ORIGINAL-URL:https://mv-aulfingen.de
X-WR-CALDESC:Veranstaltungen für MV Aulfingen
REFRESH-INTERVAL;VALUE=DURATION:PT1H
X-Robots-Tag:noindex
X-PUBLISHED-TTL:PT1H
BEGIN:VTIMEZONE
TZID:Europe/Berlin
BEGIN:DAYLIGHT
TZOFFSETFROM:+0100
TZOFFSETTO:+0200
TZNAME:CEST
DTSTART:20250330T010000
END:DAYLIGHT
BEGIN:STANDARD
TZOFFSETFROM:+0200
TZOFFSETTO:+0100
TZNAME:CET
DTSTART:20251026T010000
END:STANDARD
END:VTIMEZONE
BEGIN:VEVENT
DTSTART;VALUE=DATE:20250613
DTEND;VALUE=DATE:20250617
DTSTAMP:20260422T213530
CREATED:20250116T163244Z
LAST-MODIFIED:20250304T095930Z
UID:266-1749772800-1750118399@mv-aulfingen.de
SUMMARY:Pfarrbuckfest
DESCRIPTION:
URL:https://mv-aulfingen.de/event/pfarrbuckfest/
END:VEVENT
END:VCALENDAR