BEGIN:VCALENDAR
VERSION:2.0
PRODID:-//MV Aulfingen - ECPv6.9.0//NONSGML v1.0//EN
CALSCALE:GREGORIAN
METHOD:PUBLISH
X-ORIGINAL-URL:https://mv-aulfingen.de
X-WR-CALDESC:Veranstaltungen für MV Aulfingen
REFRESH-INTERVAL;VALUE=DURATION:PT1H
X-Robots-Tag:noindex
X-PUBLISHED-TTL:PT1H
BEGIN:VTIMEZONE
TZID:Europe/Berlin
BEGIN:DAYLIGHT
TZOFFSETFROM:+0100
TZOFFSETTO:+0200
TZNAME:CEST
DTSTART:20250330T010000
END:DAYLIGHT
BEGIN:STANDARD
TZOFFSETFROM:+0200
TZOFFSETTO:+0100
TZNAME:CET
DTSTART:20251026T010000
END:STANDARD
END:VTIMEZONE
BEGIN:VEVENT
DTSTART;VALUE=DATE:20250718
DTEND;VALUE=DATE:20250721
DTSTAMP:20260422T202323
CREATED:20250116T163419Z
LAST-MODIFIED:20250116T163419Z
UID:270-1752796800-1753055999@mv-aulfingen.de
SUMMARY:Straßenfest Geisingen
DESCRIPTION:
URL:https://mv-aulfingen.de/event/strassenfest-geisingen/
END:VEVENT
END:VCALENDAR